{"text_format":"1","workbook":"xlsx","n_sheets":10,"sheets":["Saommaire","BAM","Régression simple","Cercle de corrélation","Diagonalisation Matrice","Etiquetage 1","Etiquetage 2","Histogramme_Entrée","Histogramme_Fréquences","Histogramme_Graphique"],"not_rendered":{"charts":11,"images":0,"macros":1,"external_links":0,"defined_names":4,"comments":4,"pivot_tables":0},"unopened":[{"sheet":"Histogramme_Graphique","index":9,"reason":"not_a_worksheet"}],"bounds":{"document_bytes":16777216,"sheet_cells":100000,"rows_first":2000,"rows_last":500,"rows_between":2000,"halvings":0,"cell_chars":16384,"cell_head_chars":4096},"cells_cut":0,"cells_raw":0,"read":"whole","date_system":"1900"}

{"sheet":"Saommaire","index":0,"n_rows":9,"n_cols":2,"rows_kept":9,"cut":false,"hidden":false,"merged":[[7,1,7,9],[8,1,8,9],[2,1,2,9],[3,1,3,9],[4,1,4,9],[5,1,5,9],[6,1,6,9]]}
[]
[]
[null,"Boite à moustaches"]
[null,"Régression simple"]
[null,"Cercle de corrélation"]
[null,"Diagonalisation de matrice"]
[null,"Etiquetage - Méthode 1"]
[null,"Etiquetage - Méthode 2"]
[null,"Histogramme"]

{"sheet":"BAM","index":1,"n_rows":26,"n_cols":9,"rows_kept":26,"cut":false,"hidden":false,"merged":[]}
[]
[]
[null,"Poids","Longueur","Largeur"]
[null,65,185,114,null,null,{"$f":"Tableau1[[#Headers],[Poids]]","v":"Poids"},{"$f":"Tableau1[[#Headers],[Longueur]]","v":"Longueur"},{"$f":"Tableau1[[#Headers],[Largeur]]","v":"Largeur"}]
[null,68,180,112,null,"Q1",{"$f":"QUARTILE(INDIRECT(G$4),1)","v":63},{"$f":"QUARTILE(INDIRECT(H$4),1)","v":151.5},{"$f":"QUARTILE(INDIRECT(I$4),1)","v":96}]
[null,72,178,113,null,"Min",{"$f":"MIN(INDIRECT(G$4))","v":55},{"$f":"MIN(INDIRECT(H$4))","v":145},{"$f":"MIN(INDIRECT(I$4))","v":92}]
[null,55,148,92,null,"Moust.Inf",{"$f":"MIN(IF(INDIRECT(G$4)>G16,INDIRECT(G$4)))","v":55},{"$f":"MIN(IF(INDIRECT(H$4)>H16,INDIRECT(H$4)))","v":145},{"$f":"MIN(IF(INDIRECT(I$4)>I16,INDIRECT(I$4)))","v":92}]
[null,64,145,93,null,"Médiane",{"$f":"MEDIAN(INDIRECT(G$4))","v":68},{"$f":"MEDIAN(INDIRECT(H$4))","v":160},{"$f":"MEDIAN(INDIRECT(I$4))","v":103}]
[null,70,161,103,null,"Moust.Sup",{"$f":"MAX(IF(INDIRECT(G$4)<G17,INDIRECT(G$4)))","v":80},{"$f":"MAX(IF(INDIRECT(H$4)<H17,INDIRECT(H$4)))","v":198},{"$f":"MAX(IF(INDIRECT(I$4)<I17,INDIRECT(I$4)))","v":114}]
[null,66,159,101,null,"Max",{"$f":"MAX(INDIRECT(G$4))","v":93},{"$f":"MAX(INDIRECT(H$4))","v":198},{"$f":"MAX(INDIRECT(I$4))","v":130}]
[null,74,165,107,null,"Q3",{"$f":"QUARTILE(INDIRECT(G$4),3)","v":71.5},{"$f":"QUARTILE(INDIRECT(H$4),3)","v":172.5},{"$f":"QUARTILE(INDIRECT(I$4),3)","v":107}]
[null,75,155,102]
[null,70,165,105,null,"Nb",{"$f":"COUNT(INDIRECT(G$4))","v":23},{"$f":"COUNT(INDIRECT(H$4))","v":23},{"$f":"COUNT(INDIRECT(I$4))","v":23}]
[null,93,198,130,null,"Moy",{"$f":"AVERAGE(INDIRECT(G$4))","v":68.347826086956516},{"$f":"AVERAGE(INDIRECT(H$4))","v":162.30434782608697},{"$f":"AVERAGE(INDIRECT(I$4))","v":103.47826086956522}]
[null,64,150,96,null,"Q3-Q1",{"$f":"G11-G5","v":8.5},{"$f":"H11-H5","v":21},{"$f":"I11-I5","v":11}]
[null,60,175,107,null,"Front.Basse",{"$f":"G5-1.5*(G11-G5)","v":50.25},{"$f":"H5-1.5*(H11-H5)","v":120},{"$f":"I5-1.5*(I11-I5)","v":79.5}]
[null,62,148,94,null,"Front.Haute",{"$f":"G11+1.5*(G11-G5)","v":84.25},{"$f":"H11+1.5*(H11-H5)","v":204},{"$f":"I11+1.5*(I11-I5)","v":123.5}]
[null,70,160,103]
[null,80,155,104]
[null,61,153,96]
[null,60,145,92]
[null,62,170,105]
[null,68,175,110]
[null,70,145,95]
[null,72,157,102]
[null,71,161,104]

{"sheet":"Régression simple","index":2,"n_rows":24,"n_cols":16,"rows_kept":24,"cut":false,"hidden":false,"merged":[[23,11,23,12],[23,14,23,15],[2,11,3,12],[2,14,3,15],[21,11,21,12],[21,14,21,15],[22,11,22,12],[22,14,22,15]]}
[]
[]
[null,null,null,null,null,null,null,null,null,null,null,"Données bruts",null,null,"Données centrées réduits"]
[]
[null,null,null,null,null,null,null,null,null,null,null,"X","Y",null,"X'","Y'"]
[null,null,null,null,null,null,null,null,null,null,null,1,0,null,{"$f":"STANDARDIZE(L6,L$19,L$20)","v":-1.5932550136313832},{"$f":"STANDARDIZE(M6,M$19,M$20)","v":-1.1708958808941627}]
[null,null,null,null,null,null,null,null,null,null,null,2,0,null,{"$f":"STANDARDIZE(L7,L$19,L$20)","v":-1.3035722838802226},-1.1708958808941627]
[null,null,null,null,null,null,null,null,null,null,{"$f":"(M8-M19)/M20","v":-0.89381364953752884},3,155,null,-1.013889554129062,-0.89381364953752884]
[null,null,null,null,null,null,null,null,null,null,null,4,215,null,-0.7242068243779014,-0.78655601159302535]
[null,null,null,null,null,null,null,null,null,null,null,5,215,null,-0.43452409462674085,-0.78655601159302535]
[null,null,null,null,null,null,null,null,null,null,null,6,445,null,-0.14484136487558028,-0.37540173280576211]
[null,null,null,null,null,null,null,null,null,null,null,7,445,null,0.14484136487558028,-0.37540173280576211]
[null,null,null,null,null,null,null,null,null,null,null,8,875,null,0.43452409462674085,0.39327800579651268]
[null,null,null,null,null,null,null,null,null,null,null,9,1225,null,0.7242068243779014,1.0189475604727829]
[null,null,null,null,null,null,null,null,null,null,null,10,1375,null,1.013889554129062,1.2870916553340415]
[null,null,null,null,null,null,null,null,null,null,null,11,1455,null,1.3035722838802226,1.4301018392600462]
[null,null,null,null,null,null,null,null,null,null,null,12,1455,null,1.5932550136313832,1.4301018392600462]
[]
[null,null,null,null,null,null,null,null,null,null,"Moyenne",{"$f":"AVERAGE(L6:L17)","v":6.5},{"$f":"AVERAGE(M6:M17)","v":655},null,{"$f":"AVERAGE(O6:O17)","v":0},{"$f":"AVERAGE(P6:P17)","v":0}]
[null,null,null,null,null,null,null,null,null,null,"écart type",{"$f":"_xlfn.STDEV.P(L6:L17)","v":3.4520525295346629},{"$f":"_xlfn.STDEV.P(M6:M17)","v":559.40072101014198},null,{"$f":"_xlfn.STDEV.P(O6:O17)","v":1.0000000000000002},{"$f":"_xlfn.STDEV.P(P6:P17)","v":1}]
[]
[null,null,null,null,null,null,null,null,null,null,"a_y",{"$f":"_xlfn.COVARIANCE.P(L6:L17,M6:M17)/_xlfn.VAR.P(L6:L17)","v":156.1888111888112},null,null,{"$f":"_xlfn.COVARIANCE.P(O6:O17,P6:P17)/_xlfn.VAR.P(O6:O17)","v":0.96383855168390509}]
[null,null,null,null,null,null,null,null,null,null,"a_x",{"$f":"_xlfn.COVARIANCE.P(L6:L17,M6:M17)/_xlfn.VAR.P(M6:M17)","v":5.9478316445414963E-3},null,null,{"$f":"_xlfn.COVARIANCE.P(O6:O17,P6:P17)/_xlfn.VAR.P(P6:P17)","v":0.96383855168390553}]
[null,null,null,null,null,null,null,null,null,null,"R^2",{"$f":"L23*L22","v":0.92898475371212819},null,null,{"$f":"O23*O22","v":0.92898475371212819}]

{"sheet":"Cercle de corrélation","index":3,"n_rows":55,"n_cols":9,"rows_kept":55,"cut":false,"hidden":false,"merged":[]}
[]
[]
["Pour tracer le cercle de corrélation"]
[null,"Angle","Cosinus","Sinus",null,null,null,"Coordonnées sur Axe 1","Coordonnées sur Axe 2"]
[0,{"$f":"(A5)*PI()/25","v":0},{"$f":"COS(B5)","v":1},{"$f":"SIN(B5)","v":0},null,null,"Variable 1",-0.11643000000000001,0.80625000000000002]
[{"$f":"A5+1","v":1},{"$f":"(A6)*PI()/25","v":0.12566370614359174},{"$f":"COS(B6)","v":0.99211470131447788},{"$f":"SIN(B6)","v":0.12533323356430426},null,null,"Variable 2",0.46949999999999997,0.26236999999999999]
[{"$f":"A6+1","v":2},0.25132741228718347,0.96858316112863108,0.24868988716485479]
[3,0.37699111843077515,0.92977648588825146,0.36812455268467792,null,null,null,0,0]
[4,0.50265482457436694,0.87630668004386358,0.48175367410171532]
[5,0.62831853071795862,0.80901699437494745,0.58778525229247314]
[6,0.7539822368615503,0.72896862742141155,0.68454710592868862]
[7,0.87964594300514209,0.63742398974868975,0.77051324277578925]
[8,1.0053096491487339,0.53582679497899655,0.84432792550201508]
[9,1.1309733552923256,0.42577929156507266,0.90482705246601958]
[10,1.2566370614359172,0.30901699437494745,0.95105651629515353]
[11,1.3823007675795089,0.18738131458572474,0.98228725072868861]
[12,1.5079644737231006,6.2790519529313527E-2,0.99802672842827156]
[13,1.6336281798666925,-6.2790519529313402E-2,0.99802672842827156]
[14,1.7592918860102842,-0.1873813145857246,0.98228725072868872]
[15,1.8849555921538756,-0.30901699437494712,0.95105651629515364]
[16,2.0106192982974678,-0.42577929156507272,0.90482705246601947]
[17,2.1362830044410597,-0.53582679497899688,0.84432792550201496]
[18,2.2619467105846511,-0.63742398974868975,0.77051324277578925]
[19,2.3876104167282426,-0.72896862742141133,0.68454710592868884]
[20,2.5132741228718345,-0.80901699437494734,0.58778525229247325]
[21,2.6389378290154264,-0.87630668004386358,0.48175367410171521]
[22,2.7646015351590179,-0.92977648588825135,0.36812455268467814]
[23,2.8902652413026093,-0.96858316112863097,0.24868988716485524]
[24,3.0159289474462012,-0.99211470131447776,0.12533323356430454]
[25,3.1415926535897931,-1,1.22514845490862E-16]
[26,3.267256359733385,-0.99211470131447788,-0.12533323356430429]
[27,3.3929200658769765,-0.96858316112863119,-0.24868988716485457]
[28,3.5185837720205684,-0.92977648588825146,-0.36812455268467792]
[29,3.6442474781641603,-0.87630668004386347,-0.48175367410171538]
[30,3.7699111843077513,-0.80901699437494778,-0.58778525229247269]
[31,3.8955748904513432,-0.72896862742141177,-0.68454710592868839]
[32,4.0212385965949355,-0.63742398974868952,-0.77051324277578936]
[33,4.1469023027385274,-0.53582679497899632,-0.8443279255020153]
[34,4.2725660088821193,-0.42577929156507216,-0.9048270524660198]
[35,4.3982297150257104,-0.30901699437494756,-0.95105651629515353]
[36,4.5238934211693023,-0.18738131458572463,-0.98228725072868872]
[37,4.6495571273128942,-6.2790519529313207E-2,-0.99802672842827156]
[38,4.7752208334564852,6.2790519529312833E-2,-0.99802672842827156]
[39,4.9008845396000771,0.18738131458572427,-0.98228725072868872]
[40,5.026548245743669,0.30901699437494723,-0.95105651629515364]
[41,5.15221195188726,0.42577929156507183,-0.90482705246601991]
[42,5.2778756580308528,0.53582679497899677,-0.84432792550201496]
[43,5.4035393641744438,0.6374239897486893,-0.77051324277578959]
[44,5.5292030703180357,0.72896862742141122,-0.68454710592868895]
[45,5.6548667764616276,0.80901699437494734,-0.58778525229247336]
[46,5.7805304826052186,0.87630668004386314,-0.4817536741017161]
[47,5.9061941887488114,0.92977648588825146,-0.36812455268467786]
[48,6.0318578948924024,0.96858316112863097,-0.24868988716485535]
[49,6.1575216010359943,0.99211470131447776,-0.12533323356430465]
[50,6.2831853071795862,1,-2.45029690981724E-16]

{"sheet":"Diagonalisation Matrice","index":4,"n_rows":10,"n_cols":14,"rows_kept":10,"cut":false,"hidden":false,"merged":[]}
[]
[]
[null,"Matrice symétrique (exemple : matrice de corrélation) ",null,null,null,null,null,null,null,"Vecteurs propres et valeurs propres de la matrice "]
[null,null,"MI70","MI80","MI82","MI86","MI88",null,null,"F1","F2","F3","F4","F5"]
[null,"MI70",1.0000000000000002,0.91322450775837327,0.87447184711972392,0.80799255913470813,0.82575431724600756,null,null,{"$f":"DIAGSYM(C5:G9,TRUE)","v":0.41914836381310466},0.86097692882520238,-2.1151053072188963E-2,0.13770812262962859,0.25223495012062186]
[null,"MI80",0.91322450775837327,1,0.99222504572597825,0.97572302393184618,0.96103567294784287,null,null,0.46024386963564323,2.6969739076961478E-2,0.21195872365382101,3.97306947793446E-2,-0.86078056967229222]
[null,"MI82",0.87447184711972392,0.99222504572597825,1,0.97898678554915664,0.97576615170311054,null,null,0.45850456599219575,-0.1462538968252334,9.5014465108468997E-3,-0.85255868855581496,0.20356028493016334]
[null,"MI86",0.80799255913470813,0.97572302393184618,0.97898678554915664,1,0.95093556532546819,null,null,0.44856226919555858,-0.3831583411501317,0.57913147704688384,0.40634546084771783,0.38919399361979234]
[null,"MI88",0.82575431724600756,0.96103567294784287,0.97576615170311054,0.95093556532546819,1,null,null,0.44839233177435772,-0.29965120469531931,-0.78685614138079696,0.29577862307918457,5.0255214074951038E-2]
[null,null,null,null,null,null,null,null,"λ",4.7074037156485593,0.23308886136503254,5.1640874568666707E-2,7.3864903727759125E-3,4.8005804494471348E-4]

{"sheet":"Etiquetage 1","index":5,"n_rows":12,"n_cols":4,"rows_kept":12,"cut":false,"hidden":false,"merged":[]}
[]
[]
[]
[null,"","F1","F2"]
[null,"PA05",0.6747519289426539,-0.59004147965979736]
[null,"PA07",4.521651805900075,-0.38136159277271653]
[null,"PA11",-1.8549431668304479,-0.27103963898383887]
[null,"PA12",-1.6080166223257046,-0.12362034346923717]
[null,"PA14",-0.61516090558630232,-0.10245952399922872]
[null,"PA15",-0.25589570956570462,0.15855195762326096]
[null,"PA16",1.7954979824537616,1.0958552528647498]
[null,"PA20",-2.6578853129883311,0.21411536839680784]

{"sheet":"Etiquetage 2","index":6,"n_rows":28,"n_cols":7,"rows_kept":28,"cut":false,"hidden":false,"merged":[]}
[]
[null,"nom","x","y"]
[null,"a",5,12]
[null,"b",4,15]
[null,"c",5,16]
[null,"quatre",7,14]
[null,"cinq",3.5,19]
[null,"six",9,12]
[null,"sept",1,10]
[]
["Construire un nuage de points avec des étiquettes :"]
[]
["Le tableau de données doit être présenté comme ci-dessus avec les noms des lignes et des colonnes dans la première ligne et la première colonne."]
["Après avoir ouvert cette feuille macro, se placer dans la feuille où se trouvent les données à représenter,",null,null,null,null,null,"(Ici, toute la partie encadrée)"]
["Sélectionner tout le tableau, y compris la ligne et la colonne des noms."]
["Appuyer sur CTRL-g : le graphique est tracé dans la page active."]
[]
["Remarques : les échelles sont fixées d'après les valeurs minimum et maximum des variables x et y."]
["De même la position des étiquettes est optimisée pour permettre une meilleure lecture."]
[]
["Ajouter des étiquettes à un nuage de points :"]
[]
["Cela se fait en deux étapes :"]
[null,"Sélectionner la plage contenant les étiquettes : cela peut être une ligne ou une colonne contenant le même nombre d'étiquettes que la série déjà représentée."]
[null,"L'enregistrer en appuyant sur CTL-n"]
[]
[null,"Sélectionner sur le graphique la série des points."]
[null,"Appuyer sur CTRL-e"]

{"sheet":"Histogramme_Entrée","index":7,"n_rows":66,"n_cols":19,"rows_kept":66,"cut":false,"hidden":false,"merged":[]}
["Valeurs de la variable",null,"Limites des classes",null,"Type d'intervalle","]",null,null,null,null,null,null,null,null,null,null,"Bornes","Effectif cumulé","Effectif"]
[0.27,null,0,null,null,{"$f":"IF($F$1=\"]\",\"\",IF($F$1=\"[\",\"\",\"^\"))","v":""},null,null,null,null,null,null,null,null,null,null,{"$f":"C2","v":0},{"$f":"COUNTIF(A:A,$P$3&Q2)","v":0},{"$f":"R3-R2","v":11}]
[12.85,null,0.5,null,null,{"$f":"IF(F2=\"^\",\"|\",\"\")","v":""},null,null,null,null,null,null,null,null,null,{"$f":"IF(F1=\"]\",\"<=\",\"<\")","v":"<="},0.5,11,{"$f":"IF(R4>0,R4-R3,0)","v":14}]
[7.92,null,2,null,null,{"$f":"IF(F2=\"^\",\"Entrez le signe crochet ] ou [\",\"\")","v":""},null,null,null,null,null,null,null,null,null,null,2,25,21]
[3.83,null,5,null,null,null,null,null,null,null,null,null,null,null,null,null,5,46,9]
[3.7,null,10,null,null,null,null,null,null,null,null,null,null,null,null,null,10,55,7]
[2.19,null,20,null,null,null,null,null,null,null,null,null,null,null,null,null,20,62,3]
[3.5,null,30,null,null,null,null,null,null,null,null,null,null,null,null,null,30,65,0]
[2.69,null,null,null,null,null,null,null,null,null,null,null,null,null,null,null,0,0,{"$f":"IF(R10>R9,R10-R9,0)","v":0}]
[6.99,null,null,null,null,null,null,null,null,null,null,null,null,null,null,null,0,0,{"$f":"IF(R11>R10,R11-R10,0)","v":0}]
[0.09,null,null,null,null,null,null,null,null,null,null,null,null,null,null,null,0,0,0]
[0.88,null,null,null,null,null,null,null,null,null,null,null,null,null,null,null,0,0,0]
[0.16,null,null,null,null,null,null,null,null,null,null,null,null,null,null,null,0,0,0]
[0.69,null,null,null,null,null,null,null,null,null,null,null,null,null,null,null,0,0,0]
[22.1,null,null,null,null,null,null,null,null,null,null,null,null,null,null,null,0,0,0]
[1.55,null,null,null,null,null,null,null,null,null,null,null,null,null,null,null,0,0,0]
[1.2,null,null,null,null,null,null,null,null,null,null,null,null,null,null,null,0,0,0]
[0.48,null,null,null,null,null,null,null,null,null,null,null,null,null,null,null,0,0,0]
[8.76,null,null,null,null,null,null,null,null,null,null,null,null,null,null,null,0,0,0]
[21.97,null,null,null,null,null,null,null,null,null,null,null,null,null,null,null,0,0,0]
[3.96,null,null,null,null,null,null,null,null,null,null,null,null,null,null,null,0,0,0]
[2.3199999999999998,null,null,null,null,null,null,null,null,null,null,null,null,null,null,null,0,0,0]
[11,null,null,null,null,null,null,null,null,null,null,null,null,null,null,null,0,0,0]
[11.88,null,null,null,null,null,null,null,null,null,null,null,null,null,null,null,0,0,0]
[15.16,null,null,null,null,null,null,null,null,null,null,null,null,null,null,null,0,0,0]
[1.71,null,null,null,null,null,null,null,null,null,null,null,null,null,null,null,0,0,0]
[1.4,null,null,null,null,null,null,null,null,null,null,null,null,null,null,null,0,0,0]
[0.06,null,null,null,null,null,null,null,null,null,null,null,null,null,null,null,0,0,0]
[0.55000000000000004,null,null,null,null,null,null,null,null,null,null,null,null,null,null,null,0,0,0]
[19.920000000000002,null,null,null,null,null,null,null,null,null,null,null,null,null,null,null,0,0,0]
[0.01,null,null,null,null,null,null,null,null,null,null,null,null,null,null,null,0,0,0]
[4.18,null,null,null,null,null,null,null,null,null,null,null,null,null,null,null,0,0,0]
[14.15,null,null,null,null,null,null,null,null,null,null,null,null,null,null,null,0,0,{"$f":"IF(R34>0,R34-R33,0)","v":0}]
[2.89]
[27.25]
[4.97]
[3.54]
[18.52]
[7.98]
[0.32]
[0.27]
[2.7]
[3.2]
[2.06]
[1.2]
[2.58]
[6.4]
[0.52]
[4.95]
[1.43]
[0.87]
[0.28000000000000003]
[6.54]
[1.1399999999999999]
[4.72]
[2.75]
[1.43]
[0.04]
[1.32]
[5.93]
[4.79]
[3.12]
[7.48]
[3.59]
[0.08]
[5.47]

{"sheet":"Histogramme_Fréquences","index":8,"n_rows":41,"n_cols":95,"rows_kept":41,"cut":false,"hidden":false,"merged":[]}
[]
["Borne","Effectif","Fréquence","Densité"]
[{"$f":"Histogramme_Entrée!C2","v":0},{"$f":"Histogramme_Entrée!S2","v":11},{"$f":"B3/$B$36","v":0.16923076923076924},{"$f":"IF(B3>0,C3/(A4-A3),0)","v":0.33846153846153848},null,null,null,null,null,null,null,null,null,null,null,null,null,null,null,null,"x",null,null,null,"y"]
[{"$f":"Histogramme_Entrée!C3","v":0.5},{"$f":"Histogramme_Entrée!S3","v":14},{"$f":"B4/$B$36","v":0.2153846153846154},{"$f":"IF(B4>0,C4/(A5-A4),0)","v":0.14358974358974361},null,null,null,null,null,null,null,null,null,null,null,null,null,null,null,null,0,{"$f":"A3","v":0},{"$f":"V4","v":0},null,0,0,{"$f":"D3","v":0.33846153846153848}]
[{"$f":"Histogramme_Entrée!C4","v":2},{"$f":"Histogramme_Entrée!S4","v":21},0.32307692307692309,{"$f":"IF(B5>0,C5/(A6-A5),0)","v":0.1076923076923077},null,null,null,null,null,null,null,null,null,null,null,null,null,null,null,null,{"$f":"V5","v":0.5},{"$f":"A4","v":0.5},{"$f":"V5","v":0.5},null,{"$f":"D3","v":0.33846153846153848},0,{"$f":"D4","v":0.14358974358974361}]
[{"$f":"Histogramme_Entrée!C5","v":5},{"$f":"Histogramme_Entrée!S5","v":9},0.13846153846153847,2.7692307692307693E-2,null,null,null,null,null,null,null,null,null,null,null,null,null,null,null,null,2,2,2,null,{"$f":"D4","v":0.14358974358974361},0,0.1076923076923077]
[{"$f":"Histogramme_Entrée!C6","v":10},{"$f":"Histogramme_Entrée!S6","v":7},0.1076923076923077,1.0769230769230771E-2,null,null,null,null,null,null,null,null,null,null,null,null,null,null,null,null,5,5,5,null,0.1076923076923077,0,2.7692307692307693E-2]
[{"$f":"Histogramme_Entrée!C7","v":20},{"$f":"Histogramme_Entrée!S7","v":3},4.6153846153846156E-2,4.6153846153846158E-3,null,null,null,null,null,null,null,null,null,null,null,null,null,null,null,null,10,10,10,null,2.7692307692307693E-2,0,1.0769230769230771E-2]
[{"$f":"Histogramme_Entrée!C8","v":30},{"$f":"Histogramme_Entrée!S8","v":0},0,0,null,null,null,null,null,null,null,null,null,null,null,null,null,null,null,null,20,20,20,null,1.0769230769230771E-2,0,4.6153846153846158E-3]
[{"$f":"Histogramme_Entrée!C9","v":0},{"$f":"Histogramme_Entrée!S9","v":0},0,0,null,null,null,null,null,null,null,null,null,null,null,null,null,null,null,null,30,30,30,null,4.6153846153846158E-3,0,0]
[{"$f":"Histogramme_Entrée!C10","v":0},{"$f":"Histogramme_Entrée!S10","v":0},0,{"$f":"IF(B11>0,C11/(A12-A11),0)","v":0},null,null,null,null,null,null,null,null,null,null,null,null,null,null,null,null,0,0,0,null,0,0,0]
[{"$f":"Histogramme_Entrée!C11","v":0},{"$f":"Histogramme_Entrée!S11","v":0},0,0,null,null,null,null,null,null,null,null,null,null,null,null,null,null,null,null,0,0,0,null,0,0,0]
[{"$f":"Histogramme_Entrée!C12","v":0},{"$f":"Histogramme_Entrée!S12","v":0},0,0,null,null,null,null,null,null,null,null,null,null,null,null,null,null,null,null,0,0,0,null,0,0,0]
[{"$f":"Histogramme_Entrée!C13","v":0},{"$f":"Histogramme_Entrée!S13","v":0},0,0,null,null,null,null,null,null,null,null,null,null,null,null,null,null,null,null,0,0,0,null,0,0,0]
[{"$f":"Histogramme_Entrée!C14","v":0},{"$f":"Histogramme_Entrée!S14","v":0},0,0,null,null,null,null,null,null,null,null,null,null,null,null,null,null,null,null,0,0,0,null,0,0,0]
[{"$f":"Histogramme_Entrée!C15","v":0},{"$f":"Histogramme_Entrée!S15","v":0},0,0,null,null,null,null,null,null,null,null,null,null,null,null,null,null,null,null,0,0,0,null,0,0,0]
[{"$f":"Histogramme_Entrée!C16","v":0},{"$f":"Histogramme_Entrée!S16","v":0},0,0,null,null,null,null,null,null,null,null,null,null,null,null,null,null,null,null,0,0,0,null,0,0,0]
[{"$f":"Histogramme_Entrée!C17","v":0},{"$f":"Histogramme_Entrée!S17","v":0},0,0,null,null,null,null,null,null,null,null,null,null,null,null,null,null,null,null,0,0,0,null,0,0,0]
[{"$f":"Histogramme_Entrée!C18","v":0},{"$f":"Histogramme_Entrée!S18","v":0},0,0,null,null,null,null,null,null,null,null,null,null,null,null,null,null,null,null,0,0,0,null,0,0,0]
[{"$f":"Histogramme_Entrée!C19","v":0},{"$f":"Histogramme_Entrée!S19","v":0},0,0,null,null,null,null,null,null,null,null,null,null,null,null,null,null,null,null,0,0,0,null,0,0,0]
[{"$f":"Histogramme_Entrée!C20","v":0},{"$f":"Histogramme_Entrée!S20","v":0},0,0,null,null,null,null,null,null,null,null,null,null,null,null,null,null,null,null,0,0,0,null,0,0,0]
[{"$f":"Histogramme_Entrée!C21","v":0},{"$f":"Histogramme_Entrée!S21","v":0},0,0,null,null,null,null,null,null,null,null,null,null,null,null,null,null,null,null,0,0,0,null,0,0,0]
[{"$f":"Histogramme_Entrée!C22","v":0},{"$f":"Histogramme_Entrée!S22","v":0},0,0,null,null,null,null,null,null,null,null,null,null,null,null,null,null,null,null,0,0,0,null,0,0,0]
[{"$f":"Histogramme_Entrée!C23","v":0},{"$f":"Histogramme_Entrée!S23","v":0},0,0,null,null,null,null,null,null,null,null,null,null,null,null,null,null,null,null,0,0,0,null,0,0,0]
[{"$f":"Histogramme_Entrée!C24","v":0},{"$f":"Histogramme_Entrée!S24","v":0},0,0,null,null,null,null,null,null,null,null,null,null,null,null,null,null,null,null,0,0,0,null,0,0,0]
[{"$f":"Histogramme_Entrée!C25","v":0},{"$f":"Histogramme_Entrée!S25","v":0},0,0,null,null,null,null,null,null,null,null,null,null,null,null,null,null,null,null,0,0,0,null,0,0,0]
[{"$f":"Histogramme_Entrée!C26","v":0},{"$f":"Histogramme_Entrée!S26","v":0},0,0,null,null,null,null,null,null,null,null,null,null,null,null,null,null,null,null,0,0,0,null,0,0,0]
[{"$f":"Histogramme_Entrée!C27","v":0},{"$f":"Histogramme_Entrée!S27","v":0},0,0,null,null,null,null,null,null,null,null,null,null,null,null,null,null,null,null,0,0,0,null,0,0,0]
[{"$f":"Histogramme_Entrée!C28","v":0},{"$f":"Histogramme_Entrée!S28","v":0},0,0,null,null,null,null,null,null,null,null,null,null,null,null,null,null,null,null,0,0,0,null,0,0,0]
[{"$f":"Histogramme_Entrée!C29","v":0},{"$f":"Histogramme_Entrée!S29","v":0},0,0,null,null,null,null,null,null,null,null,null,null,null,null,null,null,null,null,0,0,0,null,0,0,0]
[{"$f":"Histogramme_Entrée!C30","v":0},{"$f":"Histogramme_Entrée!S30","v":0},0,0,null,null,null,null,null,null,null,null,null,null,null,null,null,null,null,null,0,0,0,null,0,0,0]
[{"$f":"Histogramme_Entrée!C31","v":0},{"$f":"Histogramme_Entrée!S31","v":0},0,0,null,null,null,null,null,null,null,null,null,null,null,null,null,null,null,null,0,0,0,null,0,0,0]
[{"$f":"Histogramme_Entrée!C32","v":0},{"$f":"Histogramme_Entrée!S32","v":0},0,0,null,null,null,null,null,null,null,null,null,null,null,null,null,null,null,null,0,0,0,null,0,0,0]
[{"$f":"Histogramme_Entrée!C33","v":0},{"$f":"Histogramme_Entrée!S33","v":0},0,0,null,null,null,null,null,null,null,null,null,null,null,null,null,null,null,null,0,0,0,null,0,0,0]
[null,null,null,null,null,null,null,null,null,null,null,null,null,null,null,null,null,null,null,null,0,0,null,null,0,0]
["Somme",{"$f":"SUM(B3:B35)","v":65},{"$f":"SUM(C3:C35)","v":1.0000000000000002},"X"]
[]
[null,null,null,null,null,null,null,null,null,null,null,null,null,null,null,null,null,null,null,"Ligne",1,1,1,{"$f":"U38+1","v":2},{"$f":"V38+1","v":2},2,3,3,3,4,4,4,5,5,5,6,6,6,7,7,7,8,8,8,9,9,9,10,10,10,11,11,11,12,12,12,13,13,13,14,14,14,15,15,15,16,16,16,17,17,17,18,18,18,19,19,19,20,20,20,21,21,21,22,22,22,23,23,{"$f":"CH38+1","v":23},24,24,24,25,25,25]
[null,null,null,null,null,null,null,null,null,null,null,null,null,null,null,null,null,null,null,"Colonne",1,2,3,{"$f":"U39","v":1},{"$f":"V39","v":2},3,1,2,3,1,2,3,1,2,3,1,2,3,1,2,3,1,2,3,1,2,3,1,2,3,1,2,3,1,2,3,1,2,3,1,2,3,1,2,3,1,2,3,1,2,3,1,2,3,1,2,3,1,2,3,1,2,3,1,2,3,1,2,{"$f":"CH39","v":3},1,2,3,1,2,3]
[null,null,null,null,null,null,null,null,null,null,null,null,null,null,null,null,null,null,null,"x",{"$f":"INDEX($U$4:$W$35,U38,U39)","v":0},{"$f":"INDEX($U$4:$W$35,V38,V39)","v":0},0,0.5,0.5,0.5,2,2,2,5,5,5,10,10,10,20,20,20,30,30,30,0,0,0,0,0,0,0,0,0,0,0,0,0,0,0,0,0,0,0,0,0,0,0,0,0,0,0,0,0,0,0,0,0,0,0,0,0,0,0,0,0,0,0,0,{"$f":"INDEX($U$4:$W$35,CH38,CH39)","v":0},0,0,0,0,0,0,0,0,0]
[null,null,null,null,null,null,null,null,null,null,null,null,null,null,null,null,null,null,null,"y",{"$f":"INDEX($Y$4:$AA$35,U38,U39)","v":0},{"$f":"INDEX($Y$4:$AA$35,V38,V39)","v":0},0.33846153846153848,0.33846153846153848,0,0.14358974358974361,0.14358974358974361,0,0.1076923076923077,0.1076923076923077,0,2.7692307692307693E-2,2.7692307692307693E-2,0,1.0769230769230771E-2,1.0769230769230771E-2,0,4.6153846153846158E-3,4.6153846153846158E-3,0,0,0,0,0,0,0,0,0,0,0,0,0,0,0,0,0,0,0,0,0,0,0,0,0,0,0,0,0,0,0,0,0,0,0,0,0,0,0,0,0,0,0,0,0,0,{"$f":"INDEX($Y$4:$AA$35,CH38,CH39)","v":0},0,0,0,0,0,0,0,0,0]